BEGIN:VCALENDAR
VERSION:2.0
PRODID:-//One North Fulton - ECPv6.15.17.1//NONSGML v1.0//EN
CALSCALE:GREGORIAN
METHOD:PUBLISH
X-WR-CALNAME:One North Fulton
X-ORIGINAL-URL:https://onenorthfulton.org
X-WR-CALDESC:Events for One North Fulton
REFRESH-INTERVAL;VALUE=DURATION:PT1H
X-Robots-Tag:noindex
X-PUBLISHED-TTL:PT1H
BEGIN:VTIMEZONE
TZID:America/New_York
BEGIN:DAYLIGHT
TZOFFSETFROM:-0500
TZOFFSETTO:-0400
TZNAME:EDT
DTSTART:20200308T070000
END:DAYLIGHT
BEGIN:STANDARD
TZOFFSETFROM:-0400
TZOFFSETTO:-0500
TZNAME:EST
DTSTART:20201101T060000
END:STANDARD
BEGIN:DAYLIGHT
TZOFFSETFROM:-0500
TZOFFSETTO:-0400
TZNAME:EDT
DTSTART:20210314T070000
END:DAYLIGHT
BEGIN:STANDARD
TZOFFSETFROM:-0400
TZOFFSETTO:-0500
TZNAME:EST
DTSTART:20211107T060000
END:STANDARD
BEGIN:DAYLIGHT
TZOFFSETFROM:-0500
TZOFFSETTO:-0400
TZNAME:EDT
DTSTART:20220313T070000
END:DAYLIGHT
BEGIN:STANDARD
TZOFFSETFROM:-0400
TZOFFSETTO:-0500
TZNAME:EST
DTSTART:20221106T060000
END:STANDARD
BEGIN:DAYLIGHT
TZOFFSETFROM:-0500
TZOFFSETTO:-0400
TZNAME:EDT
DTSTART:20230312T070000
END:DAYLIGHT
BEGIN:STANDARD
TZOFFSETFROM:-0400
TZOFFSETTO:-0500
TZNAME:EST
DTSTART:20231105T060000
END:STANDARD
END:VTIMEZONE
BEGIN:VEVENT
DTSTART;TZID=America/New_York:20221130T100000
DTEND;TZID=America/New_York:20221130T113000
DTSTAMP:20260422T164811
CREATED:20221012T185332Z
LAST-MODIFIED:20230331T134140Z
UID:3513-1669802400-1669807800@onenorthfulton.org
SUMMARY:October 2022: One Johns Creek Coalition Meeting
DESCRIPTION:Topic: One Johns Creek Coalition Meeting\n\n\n\nSeptember 28\, 2022\, 10:00 AM Eastern Time (US and Canada) \n\n\n\nLocation: Brady Ware – Parking Behind Building \n\n\n\n11175 Cicero Dr #300\, Alpharetta\, GA 30022 \n\n\n\n\n\n\n\nPlease download and import the following iCalendar (.ics) files to your calendar system. \n\n\n\n\n\n\n\nJoin Zoom Meeting \n\n\n\n\n\n\n\nMeeting ID: 889 8894 0084 \n\n\n\nPasscode: 897892 \n\n\n\nOne tap mobile \n\n\n\n\n+13017158592\,\,88988940084#\,\,\,\,*897892# US (Washington DC)\n\n\n\n+13126266799\,\,88988940084#\,\,\,\,*897892# US (Chicago)\n\n\n\n\nDial by your location\n\n\n\n\n        +1 301 715 8592 US (Washington DC)\n\n\n\n        +1 312 626 6799 US (Chicago)\n\n\n\n        +1 646 558 8656 US (New York)\n\n\n\n        +1 253 215 8782 US (Tacoma)\n\n\n\n        +1 346 248 7799 US (Houston)\n\n\n\n        +1 669 900 9128 US (San Jose)\n\n\n\n\nMeeting ID: 889 8894 0084 \n\n\n\nPasscode: 897892
URL:https://onenorthfulton.org/event/october-2022-one-johns-creek-coalition-meeting-2/
CATEGORIES:Monthly One Johns Creek Coalition Meetings
ATTACH;FMTTYPE=image/jpeg:https://onenorthfulton.org/wp-content/uploads/2021/10/September-2022-One-Johns-Creek-Coalition-Meeting.jpg
END:VEVENT
BEGIN:VEVENT
DTSTART;TZID=America/New_York:20221026T100000
DTEND;TZID=America/New_York:20221026T113000
DTSTAMP:20260422T164811
CREATED:20221012T185236Z
LAST-MODIFIED:20230331T134350Z
UID:3511-1666778400-1666783800@onenorthfulton.org
SUMMARY:October 2022: One Johns Creek Coalition Meeting
DESCRIPTION:Topic: One Johns Creek Coalition Meeting\n\n\n\nSeptember 28\, 2022\, 10:00 AM Eastern Time (US and Canada) \n\n\n\nLocation: Brady Ware – Parking Behind Building \n\n\n\n11175 Cicero Dr #300\, Alpharetta\, GA 30022 \n\n\n\n\n\n\n\nPlease download and import the following iCalendar (.ics) files to your calendar system. \n\n\n\n\n\n\n\nJoin Zoom Meeting \n\n\n\n\n\n\n\nMeeting ID: 889 8894 0084 \n\n\n\nPasscode: 897892 \n\n\n\nOne tap mobile \n\n\n\n\n+13017158592\,\,88988940084#\,\,\,\,*897892# US (Washington DC)\n\n\n\n+13126266799\,\,88988940084#\,\,\,\,*897892# US (Chicago)\n\n\n\n\nDial by your location\n\n\n\n\n        +1 301 715 8592 US (Washington DC)\n\n\n\n        +1 312 626 6799 US (Chicago)\n\n\n\n        +1 646 558 8656 US (New York)\n\n\n\n        +1 253 215 8782 US (Tacoma)\n\n\n\n        +1 346 248 7799 US (Houston)\n\n\n\n        +1 669 900 9128 US (San Jose)\n\n\n\n\nMeeting ID: 889 8894 0084 \n\n\n\nPasscode: 897892
URL:https://onenorthfulton.org/event/october-2022-one-johns-creek-coalition-meeting/
CATEGORIES:Monthly One Johns Creek Coalition Meetings
ATTACH;FMTTYPE=image/jpeg:https://onenorthfulton.org/wp-content/uploads/2021/10/September-2022-One-Johns-Creek-Coalition-Meeting.jpg
END:VEVENT
BEGIN:VEVENT
DTSTART;TZID=America/New_York:20220928T100000
DTEND;TZID=America/New_York:20220928T113000
DTSTAMP:20260422T164811
CREATED:20211028T160656Z
LAST-MODIFIED:20221012T185146Z
UID:3129-1664359200-1664364600@onenorthfulton.org
SUMMARY:September 2022: One Johns Creek Coalition Meeting
DESCRIPTION:Topic: One Johns Creek Coalition Meeting\nSeptember 28\, 2022\, 10:00 AM Eastern Time (US and Canada) \nLocation: Brady Ware – Parking Behind Building \n11175 Cicero Dr #300\, Alpharetta\, GA 30022 \n\nPlease download and import the following iCalendar (.ics) files to your calendar system. \n\nJoin Zoom Meeting \n\nMeeting ID: 889 8894 0084 \nPasscode: 897892 \nOne tap mobile \n\n+13017158592\,\,88988940084#\,\,\,\,*897892# US (Washington DC)\n+13126266799\,\,88988940084#\,\,\,\,*897892# US (Chicago)\n\nDial by your location\n\n        +1 301 715 8592 US (Washington DC)\n        +1 312 626 6799 US (Chicago)\n        +1 646 558 8656 US (New York)\n        +1 253 215 8782 US (Tacoma)\n        +1 346 248 7799 US (Houston)\n        +1 669 900 9128 US (San Jose)\n\nMeeting ID: 889 8894 0084 \nPasscode: 897892
URL:https://onenorthfulton.org/event/september-2022-one-johns-creek-coalition-meeting/
CATEGORIES:Monthly One Johns Creek Coalition Meetings
ATTACH;FMTTYPE=image/jpeg:https://onenorthfulton.org/wp-content/uploads/2021/10/September-2022-One-Johns-Creek-Coalition-Meeting.jpg
END:VEVENT
BEGIN:VEVENT
DTSTART;TZID=America/New_York:20220831T100000
DTEND;TZID=America/New_York:20220831T110000
DTSTAMP:20260422T164811
CREATED:20211028T160447Z
LAST-MODIFIED:20220209T213639Z
UID:3126-1661940000-1661943600@onenorthfulton.org
SUMMARY:August 2022: One Johns Creek Coalition Meeting
DESCRIPTION:Topic: One Johns Creek Coalition Meeting\nAugust 31\, 2022\, 10:00 AM Eastern Time (US and Canada) \nLocation: Brady Ware – Parking Behind Building \n11175 Cicero Dr #300\, Alpharetta\, GA 30022 \n\nPlease download and import the following iCalendar (.ics) files to your calendar system. \n\nJoin Zoom Meeting \n\nMeeting ID: 889 8894 0084 \nPasscode: 897892 \nOne tap mobile \n\n+13017158592\,\,88988940084#\,\,\,\,*897892# US (Washington DC)\n+13126266799\,\,88988940084#\,\,\,\,*897892# US (Chicago)\n\nDial by your location\n\n        +1 301 715 8592 US (Washington DC)\n        +1 312 626 6799 US (Chicago)\n        +1 646 558 8656 US (New York)\n        +1 253 215 8782 US (Tacoma)\n        +1 346 248 7799 US (Houston)\n        +1 669 900 9128 US (San Jose)\n\nMeeting ID: 889 8894 0084 \nPasscode: 897892
URL:https://onenorthfulton.org/event/august-2022-one-johns-creek-coalition-meeting/
CATEGORIES:Monthly One Johns Creek Coalition Meetings
ATTACH;FMTTYPE=image/jpeg:https://onenorthfulton.org/wp-content/uploads/2021/10/August-2022-One-Johns-Creek-Coalition-Meeting.jpg
END:VEVENT
BEGIN:VEVENT
DTSTART;TZID=America/New_York:20220727T100000
DTEND;TZID=America/New_York:20220727T110000
DTSTAMP:20260422T164811
CREATED:20211028T160112Z
LAST-MODIFIED:20220209T213628Z
UID:3123-1658916000-1658919600@onenorthfulton.org
SUMMARY:July 2022: One Johns Creek Coalition Meeting
DESCRIPTION:Topic: One Johns Creek Coalition Meeting\nJuly 27\, 2022\, 10:00 AM Eastern Time (US and Canada) \nLocation: Brady Ware – Parking Behind Building \n11175 Cicero Dr #300\, Alpharetta\, GA 30022 \n\nPlease download and import the following iCalendar (.ics) files to your calendar system. \n\nJoin Zoom Meeting \n\nMeeting ID: 889 8894 0084 \nPasscode: 897892 \nOne tap mobile \n\n+13017158592\,\,88988940084#\,\,\,\,*897892# US (Washington DC)\n+13126266799\,\,88988940084#\,\,\,\,*897892# US (Chicago)\n\nDial by your location\n\n        +1 301 715 8592 US (Washington DC)\n        +1 312 626 6799 US (Chicago)\n        +1 646 558 8656 US (New York)\n        +1 253 215 8782 US (Tacoma)\n        +1 346 248 7799 US (Houston)\n        +1 669 900 9128 US (San Jose)\n\nMeeting ID: 889 8894 0084 \nPasscode: 897892
URL:https://onenorthfulton.org/event/july-2022-one-johns-creek-coalition-meeting/
CATEGORIES:Monthly One Johns Creek Coalition Meetings
ATTACH;FMTTYPE=image/jpeg:https://onenorthfulton.org/wp-content/uploads/2021/10/July-2022-One-Johns-Creek-Coalition-Meeting.jpg
END:VEVENT
BEGIN:VEVENT
DTSTART;TZID=America/New_York:20220629T100000
DTEND;TZID=America/New_York:20220629T110000
DTSTAMP:20260422T164811
CREATED:20211028T155820Z
LAST-MODIFIED:20220209T213617Z
UID:3120-1656496800-1656500400@onenorthfulton.org
SUMMARY:June 2022: One Johns Creek Coalition Meeting
DESCRIPTION:Topic: One Johns Creek Coalition Meeting\nJune 29\, 2022\, 10:00 AM Eastern Time (US and Canada) \nLocation: Brady Ware – Parking Behind Building \n11175 Cicero Dr #300\, Alpharetta\, GA 30022 \n\nPlease download and import the following iCalendar (.ics) files to your calendar system. \n\nJoin Zoom Meeting \n\nMeeting ID: 889 8894 0084 \nPasscode: 897892 \nOne tap mobile \n\n+13017158592\,\,88988940084#\,\,\,\,*897892# US (Washington DC)\n+13126266799\,\,88988940084#\,\,\,\,*897892# US (Chicago)\n\nDial by your location\n\n        +1 301 715 8592 US (Washington DC)\n        +1 312 626 6799 US (Chicago)\n        +1 646 558 8656 US (New York)\n        +1 253 215 8782 US (Tacoma)\n        +1 346 248 7799 US (Houston)\n        +1 669 900 9128 US (San Jose)\n\nMeeting ID: 889 8894 0084 \nPasscode: 897892
URL:https://onenorthfulton.org/event/june-2022-one-johns-creek-coalition-meeting/
CATEGORIES:Monthly One Johns Creek Coalition Meetings
ATTACH;FMTTYPE=image/jpeg:https://onenorthfulton.org/wp-content/uploads/2021/10/June-2022-One-Johns-Creek-Coalition-Meeting.jpg
END:VEVENT
BEGIN:VEVENT
DTSTART;TZID=America/New_York:20220525T100000
DTEND;TZID=America/New_York:20220525T110000
DTSTAMP:20260422T164811
CREATED:20211028T155536Z
LAST-MODIFIED:20220209T213607Z
UID:3117-1653472800-1653476400@onenorthfulton.org
SUMMARY:May 2022: One Johns Creek Coalition Meeting
DESCRIPTION:Topic: One Johns Creek Coalition Meeting\nMay 25\, 2022\, 10:00 AM Eastern Time (US and Canada) \nLocation: Brady Ware – Parking Behind Building \n11175 Cicero Dr #300\, Alpharetta\, GA 30022 \n\nPlease download and import the following iCalendar (.ics) files to your calendar system. \n\nJoin Zoom Meeting \n\nMeeting ID: 889 8894 0084 \nPasscode: 897892 \nOne tap mobile \n\n+13017158592\,\,88988940084#\,\,\,\,*897892# US (Washington DC)\n+13126266799\,\,88988940084#\,\,\,\,*897892# US (Chicago)\n\nDial by your location\n\n        +1 301 715 8592 US (Washington DC)\n        +1 312 626 6799 US (Chicago)\n        +1 646 558 8656 US (New York)\n        +1 253 215 8782 US (Tacoma)\n        +1 346 248 7799 US (Houston)\n        +1 669 900 9128 US (San Jose)\n\nMeeting ID: 889 8894 0084 \nPasscode: 897892
URL:https://onenorthfulton.org/event/may-2022-one-johns-creek-coalition-meeting/
CATEGORIES:Monthly One Johns Creek Coalition Meetings
ATTACH;FMTTYPE=image/jpeg:https://onenorthfulton.org/wp-content/uploads/2021/10/May-2022-One-Johns-Creek-Coalition-Meeting.jpg
END:VEVENT
BEGIN:VEVENT
DTSTART;TZID=America/New_York:20220427T100000
DTEND;TZID=America/New_York:20220427T110000
DTSTAMP:20260422T164811
CREATED:20211028T155232Z
LAST-MODIFIED:20220209T213555Z
UID:3114-1651053600-1651057200@onenorthfulton.org
SUMMARY:April 2022: One Johns Creek Coalition Meeting
DESCRIPTION:Topic: One Johns Creek Coalition Meeting\nApril 27\, 2022\, 10:00 AM Eastern Time (US and Canada) \nLocation: Brady Ware – Parking Behind Building \n11175 Cicero Dr #300\, Alpharetta\, GA 30022 \n\nPlease download and import the following iCalendar (.ics) files to your calendar system. \n\nJoin Zoom Meeting \n\nMeeting ID: 889 8894 0084 \nPasscode: 897892 \nOne tap mobile \n\n+13017158592\,\,88988940084#\,\,\,\,*897892# US (Washington DC)\n+13126266799\,\,88988940084#\,\,\,\,*897892# US (Chicago)\n\nDial by your location\n\n        +1 301 715 8592 US (Washington DC)\n        +1 312 626 6799 US (Chicago)\n        +1 646 558 8656 US (New York)\n        +1 253 215 8782 US (Tacoma)\n        +1 346 248 7799 US (Houston)\n        +1 669 900 9128 US (San Jose)\n\nMeeting ID: 889 8894 0084 \nPasscode: 897892
URL:https://onenorthfulton.org/event/april-2022-one-johns-creek-coalition-meeting/
CATEGORIES:Monthly One Johns Creek Coalition Meetings
ATTACH;FMTTYPE=image/jpeg:https://onenorthfulton.org/wp-content/uploads/2021/10/April-2022-One-Johns-Creek-Coalition-Meeting.jpg
END:VEVENT
BEGIN:VEVENT
DTSTART;TZID=America/New_York:20220330T100000
DTEND;TZID=America/New_York:20220330T110000
DTSTAMP:20260422T164811
CREATED:20211028T154225Z
LAST-MODIFIED:20220209T213541Z
UID:3111-1648634400-1648638000@onenorthfulton.org
SUMMARY:March 2022: One Johns Creek Coalition Meeting
DESCRIPTION:Topic: One Johns Creek Coalition Meeting\nMarch 30\, 2022\, 10:00 AM Eastern Time (US and Canada) \nLocation: Brady Ware – Parking Behind Building \n11175 Cicero Dr #300\, Alpharetta\, GA 30022 \n\nPlease download and import the following iCalendar (.ics) files to your calendar system. \n\nJoin Zoom Meeting \n\nMeeting ID: 889 8894 0084 \nPasscode: 897892 \nOne tap mobile \n\n+13017158592\,\,88988940084#\,\,\,\,*897892# US (Washington DC)\n+13126266799\,\,88988940084#\,\,\,\,*897892# US (Chicago)\n\nDial by your location\n\n        +1 301 715 8592 US (Washington DC)\n        +1 312 626 6799 US (Chicago)\n        +1 646 558 8656 US (New York)\n        +1 253 215 8782 US (Tacoma)\n        +1 346 248 7799 US (Houston)\n        +1 669 900 9128 US (San Jose)\n\nMeeting ID: 889 8894 0084 \nPasscode: 897892
URL:https://onenorthfulton.org/event/march-2022-one-johns-creek-coalition-meeting/
CATEGORIES:Monthly One Johns Creek Coalition Meetings
ATTACH;FMTTYPE=image/jpeg:https://onenorthfulton.org/wp-content/uploads/2021/10/March-2022-One-Johns-Creek-Coalition-Meeting.jpg
END:VEVENT
BEGIN:VEVENT
DTSTART;TZID=America/New_York:20220223T100000
DTEND;TZID=America/New_York:20220223T110000
DTSTAMP:20260422T164811
CREATED:20211028T153656Z
LAST-MODIFIED:20220209T213102Z
UID:3108-1645610400-1645614000@onenorthfulton.org
SUMMARY:February 2022: One Johns Creek Coalition Meeting
DESCRIPTION:Topic: One Johns Creek Coalition Meeting\nFebruary 23\, 2022\, 10:00 AM Eastern Time (US and Canada) \nLocation: Brady Ware – Parking Behind Building \n11175 Cicero Dr #300\, Alpharetta\, GA 30022 \n\nPlease download and import the following iCalendar (.ics) files to your calendar system. \n\nJoin Zoom Meeting \n\nMeeting ID: 889 8894 0084 \nPasscode: 897892 \nOne tap mobile \n\n+13017158592\,\,88988940084#\,\,\,\,*897892# US (Washington DC)\n+13126266799\,\,88988940084#\,\,\,\,*897892# US (Chicago)\n\nDial by your location\n\n        +1 301 715 8592 US (Washington DC)\n        +1 312 626 6799 US (Chicago)\n        +1 646 558 8656 US (New York)\n        +1 253 215 8782 US (Tacoma)\n        +1 346 248 7799 US (Houston)\n        +1 669 900 9128 US (San Jose)\n\nMeeting ID: 889 8894 0084 \nPasscode: 897892
URL:https://onenorthfulton.org/event/february-2022-one-johns-creek-coalition-meeting/
CATEGORIES:Monthly One Johns Creek Coalition Meetings
ATTACH;FMTTYPE=image/jpeg:https://onenorthfulton.org/wp-content/uploads/2021/10/February-2022-One-Johns-Creek-Coalition-Meeting.jpg
END:VEVENT
BEGIN:VEVENT
DTSTART;TZID=America/New_York:20220126T100000
DTEND;TZID=America/New_York:20220126T110000
DTSTAMP:20260422T164811
CREATED:20211028T153417Z
LAST-MODIFIED:20211028T153418Z
UID:3105-1643191200-1643194800@onenorthfulton.org
SUMMARY:January 2022: One Johns Creek Coalition Meeting
DESCRIPTION:Topic: One Johns Creek Coalition Meeting\nJanuary 26\, 2022\, 10:00 AM Eastern Time (US and Canada) \n\n  \nPlease download and import the following iCalendar (.ics) files to your calendar system. \n\nJoin Zoom Meeting \n\nMeeting ID: 889 8894 0084 \nPasscode: 897892 \nOne tap mobile \n\n+13017158592\,\,88988940084#\,\,\,\,*897892# US (Washington DC)\n+13126266799\,\,88988940084#\,\,\,\,*897892# US (Chicago)\n\nDial by your location\n\n        +1 301 715 8592 US (Washington DC)\n        +1 312 626 6799 US (Chicago)\n        +1 646 558 8656 US (New York)\n        +1 253 215 8782 US (Tacoma)\n        +1 346 248 7799 US (Houston)\n        +1 669 900 9128 US (San Jose)\n\nMeeting ID: 889 8894 0084 \nPasscode: 897892
URL:https://onenorthfulton.org/event/january-2022-one-johns-creek-coalition-meeting/
CATEGORIES:Monthly One Johns Creek Coalition Meetings
ATTACH;FMTTYPE=image/jpeg:https://onenorthfulton.org/wp-content/uploads/2021/10/January-2022-One-Johns-Creek-Coalition-Meeting.jpg
END:VEVENT
BEGIN:VEVENT
DTSTART;TZID=America/New_York:20211117T100000
DTEND;TZID=America/New_York:20211117T110000
DTSTAMP:20260422T164811
CREATED:20211027T155425Z
LAST-MODIFIED:20211028T152601Z
UID:3086-1637143200-1637146800@onenorthfulton.org
SUMMARY:November 2021: One Johns Creek Coalition Meeting
DESCRIPTION:Topic: One Johns Creek Coalition Meeting\nNov 17\, 2021 10:00 AM Eastern Time (US and Canada) \n\n  \nPlease download and import the following iCalendar (.ics) files to your calendar system. \n\nJoin Zoom Meeting \n\nMeeting ID: 889 8894 0084 \nPasscode: 897892 \nOne tap mobile \n\n+13017158592\,\,88988940084#\,\,\,\,*897892# US (Washington DC)\n+13126266799\,\,88988940084#\,\,\,\,*897892# US (Chicago)\n\nDial by your location\n\n        +1 301 715 8592 US (Washington DC)\n        +1 312 626 6799 US (Chicago)\n        +1 646 558 8656 US (New York)\n        +1 253 215 8782 US (Tacoma)\n        +1 346 248 7799 US (Houston)\n        +1 669 900 9128 US (San Jose)\n\nMeeting ID: 889 8894 0084 \nPasscode: 897892
URL:https://onenorthfulton.org/event/november-2021-one-johns-creek-coalition-meeting/
CATEGORIES:Monthly One Johns Creek Coalition Meetings
ATTACH;FMTTYPE=image/jpeg:https://onenorthfulton.org/wp-content/uploads/2021/10/November-2021-One-Johns-Creek-Coalition-Meeting.jpg
END:VEVENT
END:VCALENDAR