BEGIN:VCALENDAR
VERSION:2.0
PRODID:-//One North Fulton - ECPv6.15.17.1//NONSGML v1.0//EN
CALSCALE:GREGORIAN
METHOD:PUBLISH
X-ORIGINAL-URL:https://onenorthfulton.org
X-WR-CALDESC:Events for One North Fulton
REFRESH-INTERVAL;VALUE=DURATION:PT1H
X-Robots-Tag:noindex
X-PUBLISHED-TTL:PT1H
BEGIN:VTIMEZONE
TZID:America/New_York
BEGIN:DAYLIGHT
TZOFFSETFROM:-0500
TZOFFSETTO:-0400
TZNAME:EDT
DTSTART:20200308T070000
END:DAYLIGHT
BEGIN:STANDARD
TZOFFSETFROM:-0400
TZOFFSETTO:-0500
TZNAME:EST
DTSTART:20201101T060000
END:STANDARD
BEGIN:DAYLIGHT
TZOFFSETFROM:-0500
TZOFFSETTO:-0400
TZNAME:EDT
DTSTART:20210314T070000
END:DAYLIGHT
BEGIN:STANDARD
TZOFFSETFROM:-0400
TZOFFSETTO:-0500
TZNAME:EST
DTSTART:20211107T060000
END:STANDARD
BEGIN:DAYLIGHT
TZOFFSETFROM:-0500
TZOFFSETTO:-0400
TZNAME:EDT
DTSTART:20220313T070000
END:DAYLIGHT
BEGIN:STANDARD
TZOFFSETFROM:-0400
TZOFFSETTO:-0500
TZNAME:EST
DTSTART:20221106T060000
END:STANDARD
END:VTIMEZONE
BEGIN:VEVENT
DTSTART;TZID=America/New_York:20211117T100000
DTEND;TZID=America/New_York:20211117T110000
DTSTAMP:20260422T144448
CREATED:20211027T155425Z
LAST-MODIFIED:20211028T152601Z
UID:3086-1637143200-1637146800@onenorthfulton.org
SUMMARY:November 2021: One Johns Creek Coalition Meeting
DESCRIPTION:Topic: One Johns Creek Coalition Meeting\nNov 17\, 2021 10:00 AM Eastern Time (US and Canada) \n\n  \nPlease download and import the following iCalendar (.ics) files to your calendar system. \n\nJoin Zoom Meeting \n\nMeeting ID: 889 8894 0084 \nPasscode: 897892 \nOne tap mobile \n\n+13017158592\,\,88988940084#\,\,\,\,*897892# US (Washington DC)\n+13126266799\,\,88988940084#\,\,\,\,*897892# US (Chicago)\n\nDial by your location\n\n        +1 301 715 8592 US (Washington DC)\n        +1 312 626 6799 US (Chicago)\n        +1 646 558 8656 US (New York)\n        +1 253 215 8782 US (Tacoma)\n        +1 346 248 7799 US (Houston)\n        +1 669 900 9128 US (San Jose)\n\nMeeting ID: 889 8894 0084 \nPasscode: 897892
URL:https://onenorthfulton.org/event/november-2021-one-johns-creek-coalition-meeting/
CATEGORIES:Monthly One Johns Creek Coalition Meetings
ATTACH;FMTTYPE=image/jpeg:https://onenorthfulton.org/wp-content/uploads/2021/10/November-2021-One-Johns-Creek-Coalition-Meeting.jpg
END:VEVENT
END:VCALENDAR